BEGIN:VCALENDAR
VERSION:2.0
PRODID:-//VOAD Affiliates - ECPv6.7.0//NONSGML v1.0//EN
CALSCALE:GREGORIAN
METHOD:PUBLISH
X-WR-CALNAME:VOAD Affiliates
X-ORIGINAL-URL:https://www.mevoad.org
X-WR-CALDESC:Events for VOAD Affiliates
REFRESH-INTERVAL;VALUE=DURATION:PT1H
X-Robots-Tag:noindex
X-PUBLISHED-TTL:PT1H
BEGIN:VTIMEZONE
TZID:UTC
BEGIN:STANDARD
TZOFFSETFROM:+0000
TZOFFSETTO:+0000
TZNAME:UTC
DTSTART:20270101T000000
END:STANDARD
END:VTIMEZONE
BEGIN:VEVENT
DTSTART;TZID=UTC:20270216T150000
DTEND;TZID=UTC:20270216T163000
DTSTAMP:20260424T091144
CREATED:20260317T204009Z
LAST-MODIFIED:20260317T204009Z
UID:98467-1802790000-1802795400@www.mevoad.org
SUMMARY:MEVOAD Monthly Virtual Training: American Red Cross in Maine
DESCRIPTION:To access Maine VOAD Training sessions\, please go to the following:  \nMicrosoft Teams Need help? \nJoin the meeting now \nMeeting ID: 228 344 862 72  \nPasscode: Kk7Xh7Gf  \n  \nDial in by phone \n+1 207-209-4724\,500081075# United States\, Portland  \nFind a local number \nPhone conference ID: 500 081 075
URL:https://www.mevoad.org/event/mevoad-monthly-virtual-training-american-red-cross-in-maine/
ORGANIZER;CN="Bill Guindon%2C ME Emergency Mgmt Agency 207-458-2867 William.Guindon@maine.gov":MAILTO:william.guindon@maine.gov
END:VEVENT
BEGIN:VEVENT
DTSTART;TZID=UTC:20270316T150000
DTEND;TZID=UTC:20270316T163000
DTSTAMP:20260424T091144
CREATED:20260317T204147Z
LAST-MODIFIED:20260317T204147Z
UID:98468-1805209200-1805214600@www.mevoad.org
SUMMARY:MEVOAD Monthly Virtual Training: National VOAD Update
DESCRIPTION:To access Maine VOAD Training sessions\, please go to the following:  \nMicrosoft Teams Need help? \nJoin the meeting now \nMeeting ID: 228 344 862 72  \nPasscode: Kk7Xh7Gf  \n  \nDial in by phone \n+1 207-209-4724\,500081075# United States\, Portland  \nFind a local number \nPhone conference ID: 500 081 075
URL:https://www.mevoad.org/event/mevoad-monthly-virtual-training-national-voad-update/
ORGANIZER;CN="Bill Guindon%2C ME Emergency Mgmt Agency 207-458-2867 William.Guindon@maine.gov":MAILTO:william.guindon@maine.gov
END:VEVENT
END:VCALENDAR