BEGIN:VCALENDAR
VERSION:2.0
PRODID:-//VOAD Affiliates - ECPv6.7.0//NONSGML v1.0//EN
CALSCALE:GREGORIAN
METHOD:PUBLISH
X-WR-CALNAME:VOAD Affiliates
X-ORIGINAL-URL:https://www.mevoad.org
X-WR-CALDESC:Events for VOAD Affiliates
REFRESH-INTERVAL;VALUE=DURATION:PT1H
X-Robots-Tag:noindex
X-PUBLISHED-TTL:PT1H
BEGIN:VTIMEZONE
TZID:UTC
BEGIN:STANDARD
TZOFFSETFROM:+0000
TZOFFSETTO:+0000
TZNAME:UTC
DTSTART:20240101T000000
END:STANDARD
END:VTIMEZONE
BEGIN:VEVENT
DTSTART;TZID=UTC:20241114T180000
DTEND;TZID=UTC:20241114T210000
DTSTAMP:20260422T091843
CREATED:20240923T201853Z
LAST-MODIFIED:20240923T201853Z
UID:98299-1731607200-1731618000@www.mevoad.org
SUMMARY:ICS 200: Incident Command System for Initial Response (evening session\, Part B)
DESCRIPTION:This 6-hour 2-part course is a virtual interactive course that is designed to enable personnel to operate efficiently during an incident or event within the ICS. ICS-200 provides training and resources for personnel who are likely to assume a supervisory position within the Incident Command System (ICS). The target audience for this course is VOAD Members\, Government\, Non-Government\, Private and Non-Profit Agencies and Organizations. \nRegistration Deadline: 11/08/2024. \nFor more information\, contact Bill Guindon\, MEMA Mass Care Coordinator\, 207-458-2867 william.guindon@maine.gov \n\nAttachments ics1002002024_0.docx (626.74 KB)
URL:https://www.mevoad.org/event/ics-200-incident-command-system-for-initial-response-evening-session-part-b/
END:VEVENT
BEGIN:VEVENT
DTSTART;TZID=UTC:20241114T090000
DTEND;TZID=UTC:20241114T120000
DTSTAMP:20260422T091843
CREATED:20240923T201709Z
LAST-MODIFIED:20240923T201709Z
UID:98298-1731574800-1731585600@www.mevoad.org
SUMMARY:ICS 200: Incident Command System for Initial Response (daytime session\, Part B)
DESCRIPTION:This 6-hour 2-part course is a virtual interactive course that is designed to enable personnel to operate efficiently during an incident or event within the ICS. ICS-200 provides training and resources for personnel who are likely to assume a supervisory position within the Incident Command System (ICS). The target audience for this course is VOAD Members\, Government\, Non-Government\, Private and Non-Profit Agencies and Organizations. \nRegistration Deadline: 11/08/2024. \nFor more information\, contact Bill Guindon\, MEMA Mass Care Coordinator\, 207-458-2867 william.guindon@maine.gov \n\nAttachments ics1002002024_0.docx (626.74 KB)
URL:https://www.mevoad.org/event/ics-200-incident-command-system-for-initial-response-daytime-session-part-b/
END:VEVENT
BEGIN:VEVENT
DTSTART;TZID=UTC:20241107T180000
DTEND;TZID=UTC:20241107T210000
DTSTAMP:20260422T091843
CREATED:20240923T201309Z
LAST-MODIFIED:20240923T201309Z
UID:98297-1731002400-1731013200@www.mevoad.org
SUMMARY:ICS 200: Incident Command System for Initial Response (evening session\, Part A)
DESCRIPTION:This 6-hour 2-part course is a virtual interactive course that is designed to enable personnel to operate efficiently during an incident or event within the ICS. ICS-200 provides training and resources for personnel who are likely to assume a supervisory position within the Incident Command System (ICS). The target audience for this course is VOAD Members\, Government\, Non-Government\, Private and Non-Profit Agencies and Organizations. \nRegistration Deadline: 11/01/2024. \nFor more information\, contact Bill Guindon\, MEMA Mass Care Coordinator\, 207-458-2867 william.guindon@maine.gov \n\nAttachments ics1002002024_0.docx (626.74 KB)
URL:https://www.mevoad.org/event/ics-200-incident-command-system-for-initial-response-evening-session-part-a/
END:VEVENT
BEGIN:VEVENT
DTSTART;TZID=UTC:20241107T090000
DTEND;TZID=UTC:20241107T120000
DTSTAMP:20260422T091843
CREATED:20240923T201019Z
LAST-MODIFIED:20240923T201401Z
UID:98296-1730970000-1730980800@www.mevoad.org
SUMMARY:ICS 200: Incident Command System for Initial Response (daytime session\, Part A)
DESCRIPTION:This 6-hour 2-part course is a virtual interactive course that is designed to enable personnel to operate efficiently during an incident or event within the ICS. ICS-200 provides training and resources for personnel who are likely to assume a supervisory position within the Incident Command System (ICS). The target audience for this course is VOAD Members\, Government\, Non-Government\, Private and Non-Profit Agencies and Organizations. \nRegistration Deadline: 11/01/2024. \nFor more information\, contact Bill Guindon\, MEMA Mass Care Coordinator\, 207-458-2867 william.guindon@maine.gov \n\nAttachments ics1002002024_0.docx (626.74 KB)
URL:https://www.mevoad.org/event/ics-200-incident-command-system-for-initial-response-daytime-session-part-a/
END:VEVENT
BEGIN:VEVENT
DTSTART;TZID=UTC:20241017T180000
DTEND;TZID=UTC:20241017T210000
DTSTAMP:20260422T091843
CREATED:20240923T200420Z
LAST-MODIFIED:20240923T202417Z
UID:98295-1729188000-1729198800@www.mevoad.org
SUMMARY:ICS 100: Introduction to the Incident Command System (evening session Part B)
DESCRIPTION:This 6-hour\, 2-part foundation-level course is a virtual interactive course that introduces the Incident Command System (ICS) and provides the foundation for higher-level ICS training. This course describes the history\, features\, principles and organizational structure of the ICS. It also explains the relationship between ICS and the National Incident Management System. \nTarget Audience: VOAD Members\, Government\, Non-Government\, Private\, and Non-Profit Agencies and Organizations. No prerequisites required. Registration Deadline: 10/11/2024. \nQuestions? Please contact Bill Guindon\, MEMA Mass Care Coordinator\, at 207-458-2867 or william.guindon@maine.gov \n\nAttachments ics1002002024.docx(626.74 KB)
URL:https://www.mevoad.org/event/ics-100-introduction-to-the-incident-command-system-evening-session-part-b/
END:VEVENT
BEGIN:VEVENT
DTSTART;TZID=UTC:20241017T090000
DTEND;TZID=UTC:20241017T120000
DTSTAMP:20260422T091843
CREATED:20240923T200237Z
LAST-MODIFIED:20240923T202308Z
UID:98294-1729155600-1729166400@www.mevoad.org
SUMMARY:ICS 100: Introduction to the Incident Command System (daytime session Part B)
DESCRIPTION:This 6-hour\, 2-part foundation-level course is a virtual interactive course that introduces the Incident Command System (ICS) and provides the foundation for higher-level ICS training. This course describes the history\, features\, principles and organizational structure of the ICS. It also explains the relationship between ICS and the National Incident Management System. \nTarget Audience: VOAD Members\, Government\, Non-Government\, Private\, and Non-Profit Agencies and Organizations. No prerequisites required. Registration Deadline: 10/11/2024. \nQuestions? Please contact Bill Guindon\, MEMA Mass Care Coordinator\, at 207-458-2867 or william.guindon@maine.gov \n\nAttachments ics1002002024.docx(626.74 KB) \n\n 
URL:https://www.mevoad.org/event/ics-100-introduction-to-the-incident-command-system-daytime-session-part-b/
END:VEVENT
BEGIN:VEVENT
DTSTART;TZID=UTC:20241010T090000
DTEND;TZID=UTC:20241010T120000
DTSTAMP:20260422T091843
CREATED:20240923T195117Z
LAST-MODIFIED:20240923T202045Z
UID:98290-1728550800-1728561600@www.mevoad.org
SUMMARY:ICS 100: Introduction to the Incident Command System 100 (daytime session Part A)
DESCRIPTION:This 6-hour\, 2-part foundation-level course is a virtual interactive course that introduces the Incident Command System (ICS) and provides the foundation for higher-level ICS training. This course describes the history\, features\, principles and organizational structure of the ICS. It also explains the relationship between ICS and the National Incident Management System. \nTarget Audience: VOAD Members\, Government\, Non-Government\, Private\, and Non-Profit Agencies and Organizations. No prerequisites required. Registration Deadline: 10/04/2024. \nQuestions? Please contact Bill Guindon\, MEMA Mass Care Coordinator\, at 207-458-2867 or william.guindon@maine.gov \n\nAttachments ics1002002024.docx(626.74 KB)
URL:https://www.mevoad.org/event/incident-command-system-100-part-a-daytime/
END:VEVENT
END:VCALENDAR